BEGIN:VCALENDAR
VERSION:2.0
PRODID:-//Tukios.com/
BEGIN:VEVENT
UID:40f17b7a-c916-427f-ba37-3f3340f0177e@www.brosefuneralhome.com
DTSTAMP:20260419T194159Z
DTSTART:20260627T180000Z
DTEND:20260627T190000Z
SUMMARY:Memorial Service
DESCRIPTION:
URL:https://www.brosefuneralhome.com/obituaries/arlan-wenstad
LOCATION:Lansford Threshing Grounds - Lansford, ND 
	https://maps.app.goo.gl/dvStEyErF4mSnNc36  Lansford ND 58750
GEO:48.628909;-101.3757158
END:VEVENT
END:VCALENDAR